BEGIN:VCALENDAR
VERSION:2.0
PRODID:-//Regionalwert AG Bremen &amp; Weser-Ems - ECPv6.15.20//NONSGML v1.0//EN
CALSCALE:GREGORIAN
METHOD:PUBLISH
X-ORIGINAL-URL:https://regionalwert-bremen.de
X-WR-CALDESC:Veranstaltungen für Regionalwert AG Bremen &amp; Weser-Ems
REFRESH-INTERVAL;VALUE=DURATION:PT1H
X-Robots-Tag:noindex
X-PUBLISHED-TTL:PT1H
BEGIN:VTIMEZONE
TZID:Europe/Berlin
BEGIN:DAYLIGHT
TZOFFSETFROM:+0100
TZOFFSETTO:+0200
TZNAME:CEST
DTSTART:20240331T010000
END:DAYLIGHT
BEGIN:STANDARD
TZOFFSETFROM:+0200
TZOFFSETTO:+0100
TZNAME:CET
DTSTART:20241027T010000
END:STANDARD
BEGIN:DAYLIGHT
TZOFFSETFROM:+0100
TZOFFSETTO:+0200
TZNAME:CEST
DTSTART:20250330T010000
END:DAYLIGHT
BEGIN:STANDARD
TZOFFSETFROM:+0200
TZOFFSETTO:+0100
TZNAME:CET
DTSTART:20251026T010000
END:STANDARD
BEGIN:DAYLIGHT
TZOFFSETFROM:+0100
TZOFFSETTO:+0200
TZNAME:CEST
DTSTART:20260329T010000
END:DAYLIGHT
BEGIN:STANDARD
TZOFFSETFROM:+0200
TZOFFSETTO:+0100
TZNAME:CET
DTSTART:20261025T010000
END:STANDARD
END:VTIMEZONE
BEGIN:VEVENT
DTSTART;TZID=Europe/Berlin:20251113T090000
DTEND;TZID=Europe/Berlin:20251113T113000
DTSTAMP:20260425T161323
CREATED:20251104T163448Z
LAST-MODIFIED:20251110T150213Z
UID:4328-1763024400-1763033400@regionalwert-bremen.de
SUMMARY:Verschoben nach 2026: Bremen: Tischgespräch mit Christian Hiß und der Regionalwert AG Bremen & Weser-Ems
DESCRIPTION:Die Veranstaltung muss leider krankheitsbedingt abgesagt und ins kommende Jahr verschoben werden. Sobald die Planung steht\, melden wir uns mit neuem Termin. \nWir laden ein: „Verantwortung gestalten – Nachhaltigkeit wirtschaftlich denken“ unser Tischgespräch mit Ökonom Christian Hiß \nWorum geht’s?\nWenn Landwirtschaft mehr kann als nur Ertrag\,\nwenn Unternehmen mehr wollen als nur Profit\,\nund wenn Kommunen mehr sehen als nur Flächennutzung –\ndann ist Zeit für einen neuen Blick auf das\, was wirklich zählt: Gemeinwohlleistungen. \nDenn:\nBodenfruchtbarkeit\, Grundwasserschutz\, Biodiversität und Ausbildung von Nachwuchskräften sind messbare Beiträge der Landwirtschaft an unsere Gesellschaft.\nNur: Wer bezahlt das eigentlich? Wir zeigen\, wie diese Leistungen nicht nur sichtbar\, sondern messbar und vergütbar werden – mit einem innovativen Modell\, das in Neumarkt bereits kommunal beschlossen wurde und Schule machen kann. Auf einen Kaffee für Menschen\, die Verantwortung nicht nur fordern\, sondern leben: \nBegrüßung durch Vorständin Regionalwert AG Bremen & Weser -Ems\, Susanna Suhlrie \nChristian Hiß\, Ökonom & Gründer der Regionalwert AG\, erklärt die Leistungsrechnung – ein Instrument zur Bewertung von Gemeinwohlleistungen in Landwirtschaft und Wirtschaft. \nDie Teilnahme ist kostenfrei\, aber bitte melden Sie sich vorab an:\ninfo@regionalwert-bremen.de oder direkt bei Ihrer Ansprechperson im Regionalwert-Team \nDas Frölichs ist ebenerdig und kann mit Mobilitätshilfen erreicht werden.
URL:https://regionalwert-bremen.de/termin/tischgespraech-mit-christian-hiss-und-der-regionalwert-ag-bremen-weser-ems/
LOCATION:Frölichs.Lokal.Regional.Fair.\, Faulenstraße 69\, Bremen\, 28195
END:VEVENT
BEGIN:VEVENT
DTSTART;TZID=Europe/Berlin:20251113T183000
DTEND;TZID=Europe/Berlin:20251113T210000
DTSTAMP:20260425T161323
CREATED:20251104T141256Z
LAST-MODIFIED:20251112T140254Z
UID:4326-1763058600-1763067600@regionalwert-bremen.de
SUMMARY:Ausfall wegen Krankheit  - Das Regionalwert-Dinner - Dieses Mal: Lokal.Regional.Fair. im Frölichs
DESCRIPTION:Gerade haben wir erfahren\, dass das Menü morgen bei Frölichs ausfallen muss. Joschas Crew ist krank. Allen gute Besserung.  \nDas tut uns sehr leid\, wir bitten um Verständinis für die kurzfristige Absage. \n  \n  \nwir freuen uns auf einen besonderen Abend mit euch: Unser Regionalwert-Dinner bei Frölichs in Bremen.  \nDas Team um Joscha Frölich hat geplant  und sich mit einer Auswahl unserer Partnerbetriebe abgestimmt.  Mit Zutaten von : \nFindus \nBiolandhof Meyer-Toms \ndie Ziegerei \nBuschhof Osterholz \nerwartet uns eine kulinarische Reise mit ausschließlich regionalen Zutaten: \nBrot von Findus | Aufgeschlagene Butter | Kräuteröl \nRote Bete | Onsenei | Senfkaviar | Eingelegte Zwiebel | Panko \nSellerie | Miso Hollandaise | Kimchi \nZiegenkäse | Risotto | Kürbis von Meyer Toms \nSchweinebauch | Petersilienwurzel | Pilz \nApfel | Blätterteig | Eis \nBitte teilt uns  bis zum 10. November mit\, ob ihr euer Menü vegetarisch oder mit Fleisch genießen wollt – und wie viele Plätze wir für euch reservieren dürfen. \nTermin: Donnerstag\, 13.11.2025\nUhrzeit: 18:30 Uhr \nMenüpreis: 50€ inkl. Aperitif & Wasser \nOrt: Frölichs Lokal.Regional.Fair Faulenstraße 69 in 28195 Bremen \nÜbrigens: Unser Partnerbetrieb Bio Restaurant Frölichs ist mit Bioland Gold Status ausgezeichnet. \nAnfahrt: Mit den öffentlichen Verkehrsmitteln ist das Frölichs vom Hauptbahnhof aus in circa 10 Minuten mit der Tramlinie 2 oder Buslinie 25 (Haltestelle: Radio Bremen / VHS) zu erreichen. Autofahrer:innen können das Parkhaus Stephani (Neuenstraße 43-44) nutzen. Das Frölichs ist ebenerdig und kann mit Mobilitätshilfen erreicht werden. \nWir freuen uns auf einen genussvollen Abend mit gutem Essen und bester Gesellschaft. Reservierungen bitte mit Kontaktdaten an: info@regionalwert-bremen.de
URL:https://regionalwert-bremen.de/termin/dieses-mal-lokal-regional-fair-im-froelichs/
LOCATION:Frölichs.Lokal.Regional.Fair.\, Faulenstraße 69\, Bremen\, 28195
END:VEVENT
END:VCALENDAR