BEGIN:VCALENDAR
VERSION:2.0
PRODID:-//Regionalwert AG Bremen &amp; Weser-Ems - ECPv6.15.20//NONSGML v1.0//EN
CALSCALE:GREGORIAN
METHOD:PUBLISH
X-WR-CALNAME:Regionalwert AG Bremen &amp; Weser-Ems
X-ORIGINAL-URL:https://regionalwert-bremen.de
X-WR-CALDESC:Veranstaltungen für Regionalwert AG Bremen &amp; Weser-Ems
REFRESH-INTERVAL;VALUE=DURATION:PT1H
X-Robots-Tag:noindex
X-PUBLISHED-TTL:PT1H
BEGIN:VTIMEZONE
TZID:Europe/Berlin
BEGIN:DAYLIGHT
TZOFFSETFROM:+0100
TZOFFSETTO:+0200
TZNAME:CEST
DTSTART:20220327T010000
END:DAYLIGHT
BEGIN:STANDARD
TZOFFSETFROM:+0200
TZOFFSETTO:+0100
TZNAME:CET
DTSTART:20221030T010000
END:STANDARD
BEGIN:DAYLIGHT
TZOFFSETFROM:+0100
TZOFFSETTO:+0200
TZNAME:CEST
DTSTART:20230326T010000
END:DAYLIGHT
BEGIN:STANDARD
TZOFFSETFROM:+0200
TZOFFSETTO:+0100
TZNAME:CET
DTSTART:20231029T010000
END:STANDARD
BEGIN:DAYLIGHT
TZOFFSETFROM:+0100
TZOFFSETTO:+0200
TZNAME:CEST
DTSTART:20240331T010000
END:DAYLIGHT
BEGIN:STANDARD
TZOFFSETFROM:+0200
TZOFFSETTO:+0100
TZNAME:CET
DTSTART:20241027T010000
END:STANDARD
END:VTIMEZONE
BEGIN:VEVENT
DTSTART;TZID=Europe/Berlin:20231008T100000
DTEND;TZID=Europe/Berlin:20231008T170000
DTSTAMP:20260425T142036
CREATED:20220927T104841Z
LAST-MODIFIED:20231002T104402Z
UID:1487-1696759200-1696784400@regionalwert-bremen.de
SUMMARY:BioMarktFest
DESCRIPTION:„Rund 40 Stände mit regionalen und ökologischen Köstlichkeiten und ein tolles Programm mit Talkrunden\, Musik und Infotainment warten auf Sie! \nAuf dem alljährlichen Marktfest der BioStadt sind alle Bürger:innen eingeladen\, sich von den Vorteilen der ökologischen und regionalen Wertschöpfung zu überzeugen\, die Erzeuger:innen kennenzulernen und innovative Produkte zu probieren: Von Bio-Wein\, über Honig\, bis hin zu Bio-Insekten können Sie sich von der Vielfalt überzeugen. \nBegleitet wird die Veranstaltung von einem bunten Rahmenprogramm\, dass alle Menschen zum Mitmachen einlädt. Moderiert wird die Veranstaltung von Helge Tramsen\, der sonst vor allem auf den Theaterbühnen Bremens zu sehen ist. \nDas Marktfest der BioStadt Bremen findet bereits zum aneunten Mal statt und wird veranstaltet von der BioStadt Bremen bei der Senatorin für Klimaschutz\, Umwelt\, Mobilität\, Stadtentwicklung und Wohnungsbau. Die Programmgestaltung erfolgt durch die freundliche Unterstützung unserer Partner Sternkultur UG und Großmarkt Bremen.“ \nMehr Infos gibt es hier.
URL:https://regionalwert-bremen.de/termin/biomarktfest/
LOCATION:Findorffmarkt\, Bremen\, 28215\, Deutschland
ATTACH;FMTTYPE=image/jpeg:https://regionalwert-bremen.de/wp-content/uploads/2023/10/BioMarktFest-neutral.22851.jpg.22855.jpg
END:VEVENT
END:VCALENDAR