BEGIN:VCALENDAR
VERSION:2.0
PRODID:-//Regionalwert AG Bremen &amp; Weser-Ems - ECPv6.15.20//NONSGML v1.0//EN
CALSCALE:GREGORIAN
METHOD:PUBLISH
X-WR-CALNAME:Regionalwert AG Bremen &amp; Weser-Ems
X-ORIGINAL-URL:https://regionalwert-bremen.de
X-WR-CALDESC:Veranstaltungen für Regionalwert AG Bremen &amp; Weser-Ems
REFRESH-INTERVAL;VALUE=DURATION:PT1H
X-Robots-Tag:noindex
X-PUBLISHED-TTL:PT1H
BEGIN:VTIMEZONE
TZID:Europe/Berlin
BEGIN:DAYLIGHT
TZOFFSETFROM:+0100
TZOFFSETTO:+0200
TZNAME:CEST
DTSTART:20210328T010000
END:DAYLIGHT
BEGIN:STANDARD
TZOFFSETFROM:+0200
TZOFFSETTO:+0100
TZNAME:CET
DTSTART:20211031T010000
END:STANDARD
BEGIN:DAYLIGHT
TZOFFSETFROM:+0100
TZOFFSETTO:+0200
TZNAME:CEST
DTSTART:20220327T010000
END:DAYLIGHT
BEGIN:STANDARD
TZOFFSETFROM:+0200
TZOFFSETTO:+0100
TZNAME:CET
DTSTART:20221030T010000
END:STANDARD
BEGIN:DAYLIGHT
TZOFFSETFROM:+0100
TZOFFSETTO:+0200
TZNAME:CEST
DTSTART:20230326T010000
END:DAYLIGHT
BEGIN:STANDARD
TZOFFSETFROM:+0200
TZOFFSETTO:+0100
TZNAME:CET
DTSTART:20231029T010000
END:STANDARD
END:VTIMEZONE
BEGIN:VEVENT
DTSTART;TZID=Europe/Berlin:20221126T150000
DTEND;TZID=Europe/Berlin:20221126T210000
DTSTAMP:20260422T013422
CREATED:20221115T122831Z
LAST-MODIFIED:20221116T103401Z
UID:1668-1669474800-1669496400@regionalwert-bremen.de
SUMMARY:Weihnachtsmarkt auf Hof Sonnenschein
DESCRIPTION:
URL:https://regionalwert-bremen.de/termin/weihnachtsmarkt-auf-hof-sonnenschein/
LOCATION:Südeweg 110\, 26607 Aurich
END:VEVENT
END:VCALENDAR