BEGIN:VCALENDAR
VERSION:2.0
PRODID:-//Regionalwert AG Bremen &amp; Weser-Ems - ECPv6.15.20//NONSGML v1.0//EN
CALSCALE:GREGORIAN
METHOD:PUBLISH
X-WR-CALNAME:Regionalwert AG Bremen &amp; Weser-Ems
X-ORIGINAL-URL:https://regionalwert-bremen.de
X-WR-CALDESC:Veranstaltungen für Regionalwert AG Bremen &amp; Weser-Ems
REFRESH-INTERVAL;VALUE=DURATION:PT1H
X-Robots-Tag:noindex
X-PUBLISHED-TTL:PT1H
BEGIN:VTIMEZONE
TZID:Europe/Berlin
BEGIN:DAYLIGHT
TZOFFSETFROM:+0100
TZOFFSETTO:+0200
TZNAME:CEST
DTSTART:20230326T010000
END:DAYLIGHT
BEGIN:STANDARD
TZOFFSETFROM:+0200
TZOFFSETTO:+0100
TZNAME:CET
DTSTART:20231029T010000
END:STANDARD
BEGIN:DAYLIGHT
TZOFFSETFROM:+0100
TZOFFSETTO:+0200
TZNAME:CEST
DTSTART:20240331T010000
END:DAYLIGHT
BEGIN:STANDARD
TZOFFSETFROM:+0200
TZOFFSETTO:+0100
TZNAME:CET
DTSTART:20241027T010000
END:STANDARD
BEGIN:DAYLIGHT
TZOFFSETFROM:+0100
TZOFFSETTO:+0200
TZNAME:CEST
DTSTART:20250330T010000
END:DAYLIGHT
BEGIN:STANDARD
TZOFFSETFROM:+0200
TZOFFSETTO:+0100
TZNAME:CET
DTSTART:20251026T010000
END:STANDARD
END:VTIMEZONE
BEGIN:VEVENT
DTSTART;TZID=Europe/Berlin:20241212T180000
DTEND;TZID=Europe/Berlin:20241212T210000
DTSTAMP:20260421T182928
CREATED:20240809T172730Z
LAST-MODIFIED:20241016T074834Z
UID:3312-1734026400-1734037200@regionalwert-bremen.de
SUMMARY:Offenes Treffen bei Frölichs  - für Interessierte\, Menschen der Partnerbetriebe\, Aktionär:innen
DESCRIPTION:Kommt gerne rum. Trefft interessante Menschen und falls ihr Fragen zur Regionalwert AG Bremen & Weser-Ems habt oder neue Ideen austauschen wollt. Seid herzlch Willikommen. \nfür Interessierte\, Menschen aus Partnerbetrieben und Aktionär:innen \nWir freuen uns auf Euch. \n 
URL:https://regionalwert-bremen.de/termin/offenes-treffen-bei-froelichs-fuer-interessierte-menschen-der-partnerbetriebe-aktionaerinnen/
LOCATION:Frölichs.Lokal.Regional.Fair.\, Faulenstraße 69\, Bremen\, 28195
ATTACH;FMTTYPE=image/png:https://regionalwert-bremen.de/wp-content/uploads/2024/03/Froelichs-Logo-2-1.png
END:VEVENT
END:VCALENDAR