BEGIN:VCALENDAR
VERSION:2.0
PRODID:-//Regionalwert AG Bremen &amp; Weser-Ems - ECPv6.15.20//NONSGML v1.0//EN
CALSCALE:GREGORIAN
METHOD:PUBLISH
X-WR-CALNAME:Regionalwert AG Bremen &amp; Weser-Ems
X-ORIGINAL-URL:https://regionalwert-bremen.de
X-WR-CALDESC:Veranstaltungen für Regionalwert AG Bremen &amp; Weser-Ems
REFRESH-INTERVAL;VALUE=DURATION:PT1H
X-Robots-Tag:noindex
X-PUBLISHED-TTL:PT1H
BEGIN:VTIMEZONE
TZID:Europe/Berlin
BEGIN:DAYLIGHT
TZOFFSETFROM:+0100
TZOFFSETTO:+0200
TZNAME:CEST
DTSTART:20220327T010000
END:DAYLIGHT
BEGIN:STANDARD
TZOFFSETFROM:+0200
TZOFFSETTO:+0100
TZNAME:CET
DTSTART:20221030T010000
END:STANDARD
BEGIN:DAYLIGHT
TZOFFSETFROM:+0100
TZOFFSETTO:+0200
TZNAME:CEST
DTSTART:20230326T010000
END:DAYLIGHT
BEGIN:STANDARD
TZOFFSETFROM:+0200
TZOFFSETTO:+0100
TZNAME:CET
DTSTART:20231029T010000
END:STANDARD
BEGIN:DAYLIGHT
TZOFFSETFROM:+0100
TZOFFSETTO:+0200
TZNAME:CEST
DTSTART:20240331T010000
END:DAYLIGHT
BEGIN:STANDARD
TZOFFSETFROM:+0200
TZOFFSETTO:+0100
TZNAME:CET
DTSTART:20241027T010000
END:STANDARD
END:VTIMEZONE
BEGIN:VEVENT
DTSTART;TZID=Europe/Berlin:20231007T110000
DTEND;TZID=Europe/Berlin:20231007T170000
DTSTAMP:20260421T221339
CREATED:20231002T113531Z
LAST-MODIFIED:20231002T113531Z
UID:2732-1696676400-1696698000@regionalwert-bremen.de
SUMMARY:Markt der Möglichkeiten - Kreishaus in Wildeshausen
DESCRIPTION:
URL:https://regionalwert-bremen.de/termin/markt-der-moeglichkeiten-kreishaus-in-wildeshausen/
LOCATION:Ökomodellregion Oldenburger Land\, Delmenhorster Str. 6\, Wildeshausen\, Niedersachsen\, 27793
END:VEVENT
END:VCALENDAR